BEGIN:VCALENDAR
VERSION:2.0
METHOD:PUBLISH
PRODID:-//Telerik Inc.//Sitefinity CMS 15.2//EN
BEGIN:VTIMEZONE
TZID:Eastern Standard Time
BEGIN:STANDARD
DTSTART:20251102T020000
RRULE:FREQ=YEARLY;BYDAY=1SU;BYHOUR=2;BYMINUTE=0;BYMONTH=11
TZNAME:Eastern Standard Time
TZOFFSETFROM:-0400
TZOFFSETTO:-0500
END:STANDARD
BEGIN:DAYLIGHT
DTSTART:20250301T020000
RRULE:FREQ=YEARLY;BYDAY=2SU;BYHOUR=2;BYMINUTE=0;BYMONTH=3
TZNAME:Eastern Daylight Time
TZOFFSETFROM:-0500
TZOFFSETTO:-0400
END:DAYLIGHT
END:VTIMEZONE
BEGIN:VEVENT
DESCRIPTION:Are you looking to connect with other high school students and 
 build skills throughout the school year? Join us at Connections every firs
 t and third Wednesday of the month.Join NowPassword: ALLWELCOME*This is an
  optional session conducted by a member of the Student Services team.For q
 uestions or concerns please contact us at&nbsp\;studentservices@flvs.net.
DTEND:20260415T170000Z
DTSTAMP:20260422T234022Z
DTSTART:20260415T163000Z
LOCATION:
SEQUENCE:0
SUMMARY:High School Connections
UID:RFCALITEM639124980221827688
X-ALT-DESC;FMTTYPE=text/html:<p>Are you looking to connect with other high 
 school students and build skills throughout the school year? Join us at Co
 nnections every first and third Wednesday of the month.</p><p><a href="htt
 ps://flvs.zoom.us/j/89870429237">Join Now</a></p><p>Password: ALLWELCOME</
 p><p>*This is an optional session conducted by a member of the Student Ser
 vices team.</p><p>For questions or concerns please contact us at&nbsp\;<a 
 href="mailto:studentservices@flvs.net">studentservices@flvs.net</a>.</p>
END:VEVENT
END:VCALENDAR
